7.9686243274099766
-0.0942302499719231690
-0.0833012720945027760
-7.9234979357781308
389078.24070187024
4123138.1129390867
