7.9629895887626043
-0.236951040627636330
-0.240880027655342780
-7.9441756365254781
233882.41717126555
4126616.8984347945
