7.9747432252815091
-0.164269137528770900
-0.153035939069561060
-7.9653013126982648
323754.14520096732
4179771.5488837156
