7.9473640234063270
-0.0959912588722160180
-0.0838674368561063010
-7.9418519676792680
389442.78090301668
4150897.1548939911
