7.9614266156587359
-0.121609711706981820
-0.110696052938974030
-7.9205980113266881
367367.55365869444
4151211.1351752086
