7.9666094312804834
-0.118455738307203130
-0.105503425717461500
-7.9391055832270458
366902.38650026126
4123495.5121649276
