6.0797360556394526
-0.0733513113137003320
-0.0895930942197502860
-6.0889320869776791
385891.74969106365
4015415.4802857549
